BEGIN:VCALENDAR
VERSION:2.0
PRODID:-//Hyderabad Golf Club - ECPv6.15.16.1//NONSGML v1.0//EN
CALSCALE:GREGORIAN
METHOD:PUBLISH
X-ORIGINAL-URL:https://hyderabadgolfclub.co.in
X-WR-CALDESC:Events for Hyderabad Golf Club
REFRESH-INTERVAL;VALUE=DURATION:PT1H
X-Robots-Tag:noindex
X-PUBLISHED-TTL:PT1H
BEGIN:VTIMEZONE
TZID:Asia/Kolkata
BEGIN:STANDARD
TZOFFSETFROM:+0530
TZOFFSETTO:+0530
TZNAME:IST
DTSTART:20250101T000000
END:STANDARD
END:VTIMEZONE
BEGIN:VEVENT
DTSTART;TZID=Asia/Kolkata:20260424T180000
DTEND;TZID=Asia/Kolkata:20260424T190000
DTSTAMP:20260423T173445
CREATED:20260228T055137Z
LAST-MODIFIED:20260228T055137Z
UID:3678-1777053600-1777057200@hyderabadgolfclub.co.in
SUMMARY:Monthly Rules Clinic
DESCRIPTION:April Monthly Rules Clinic – A focused session to review and clarify golf rules\, scheduled for Friday\, 24th April.
URL:https://hyderabadgolfclub.co.in/event/monthly-rules-clinic-2/
END:VEVENT
BEGIN:VEVENT
DTSTART;TZID=Asia/Kolkata:20260430T060000
DTEND;TZID=Asia/Kolkata:20260430T133000
DTSTAMP:20260423T173445
CREATED:20260302T051620Z
LAST-MODIFIED:20260302T051620Z
UID:3726-1777528800-1777555800@hyderabadgolfclub.co.in
SUMMARY:KWC Golf Tournament (Tentative) – April 2026
DESCRIPTION:KWC Golf Tournament (Tentative) – Corporate golf tournament proposed for Thursday\, 30th April.
URL:https://hyderabadgolfclub.co.in/event/kwc-golf-tournament-tentative-april-2026/
LOCATION:Hyderabad Golf Club\, Golconda\, Hyderabad\, Telangana\, India\, India
END:VEVENT
BEGIN:VEVENT
DTSTART;TZID=Asia/Kolkata:20260508T050000
DTEND;TZID=Asia/Kolkata:20260509T130000
DTSTAMP:20260423T173445
CREATED:20260302T051811Z
LAST-MODIFIED:20260410T072208Z
UID:3728-1778216400-1778331600@hyderabadgolfclub.co.in
SUMMARY:HGA Monthly Tournament – May 2026
DESCRIPTION:May Monthly Tournament – Two-day monthly tournament with Friday full-day sessions and Saturday afternoon (8th–9th May).
URL:https://hyderabadgolfclub.co.in/event/hga-monthly-tournament-may-2026/
LOCATION:Hyderabad Golf Club\, Golconda\, Hyderabad\, Telangana\, India\, India
END:VEVENT
BEGIN:VEVENT
DTSTART;TZID=Asia/Kolkata:20260529T180000
DTEND;TZID=Asia/Kolkata:20260529T190000
DTSTAMP:20260423T173445
CREATED:20260302T051933Z
LAST-MODIFIED:20260302T051944Z
UID:3730-1780077600-1780081200@hyderabadgolfclub.co.in
SUMMARY:Monthly Rules Clinic
DESCRIPTION:May Monthly Rules Clinic – Monthly golf rules clinic scheduled for Friday\, 29th May.
URL:https://hyderabadgolfclub.co.in/event/monthly-rules-clinic-5/
LOCATION:Hyderabad Golf Club\, Golconda\, Hyderabad\, Telangana\, India\, India
END:VEVENT
END:VCALENDAR