BEGIN:VCALENDAR
VERSION:2.0
PRODID:-//Hyderabad Golf Club - ECPv6.15.16.1//NONSGML v1.0//EN
CALSCALE:GREGORIAN
METHOD:PUBLISH
X-WR-CALNAME:Hyderabad Golf Club
X-ORIGINAL-URL:https://hyderabadgolfclub.co.in
X-WR-CALDESC:Events for Hyderabad Golf Club
REFRESH-INTERVAL;VALUE=DURATION:PT1H
X-Robots-Tag:noindex
X-PUBLISHED-TTL:PT1H
BEGIN:VTIMEZONE
TZID:Asia/Kolkata
BEGIN:STANDARD
TZOFFSETFROM:+0530
TZOFFSETTO:+0530
TZNAME:IST
DTSTART:20250101T000000
END:STANDARD
END:VTIMEZONE
BEGIN:VEVENT
DTSTART;TZID=Asia/Kolkata:20260102T123000
DTEND;TZID=Asia/Kolkata:20260103T130000
DTSTAMP:20260424T012827
CREATED:20260228T072900Z
LAST-MODIFIED:20260228T072900Z
UID:3688-1767357000-1767445200@hyderabadgolfclub.co.in
SUMMARY:HGA Monthly Tournament - JAN 2026
DESCRIPTION:January Monthly Tournament – Two-day tournament with Friday afternoon and Saturday full-day sessions (2nd–3rd January).
URL:https://hyderabadgolfclub.co.in/event/hga-monthly-tournament-jan-2026/
LOCATION:Hyderabad Golf Club\, Golconda\, Hyderabad\, Telangana\, India\, India
END:VEVENT
BEGIN:VEVENT
DTSTART;TZID=Asia/Kolkata:20260108T060000
DTEND;TZID=Asia/Kolkata:20260111T170000
DTSTAMP:20260424T012827
CREATED:20260228T072950Z
LAST-MODIFIED:20260228T072950Z
UID:3690-1767852000-1768150800@hyderabadgolfclub.co.in
SUMMARY:Sankranthi Cup 2026
DESCRIPTION:Sankranthi Cup 2026 – Special multi-day tournament held from 8th to 11th January as part of Sankranthi celebrations.
URL:https://hyderabadgolfclub.co.in/event/sankranthi-cup-2026/
LOCATION:Hyderabad Golf Club\, Golconda\, Hyderabad\, Telangana\, India\, India
END:VEVENT
BEGIN:VEVENT
DTSTART;TZID=Asia/Kolkata:20260122T060000
DTEND;TZID=Asia/Kolkata:20260123T130000
DTSTAMP:20260424T012827
CREATED:20260228T073039Z
LAST-MODIFIED:20260228T073039Z
UID:3692-1769061600-1769173200@hyderabadgolfclub.co.in
SUMMARY:BMW Golf Tournament
DESCRIPTION:BMW Golf Tournament – Corporate golf tournament with morning sessions on 22nd and 23rd January.
URL:https://hyderabadgolfclub.co.in/event/bmw-golf-tournament/
LOCATION:Hyderabad Golf Club\, Golconda\, Hyderabad\, Telangana\, India\, India
END:VEVENT
BEGIN:VEVENT
DTSTART;TZID=Asia/Kolkata:20260130T180000
DTEND;TZID=Asia/Kolkata:20260130T190000
DTSTAMP:20260424T012827
CREATED:20260228T073303Z
LAST-MODIFIED:20260228T073303Z
UID:3694-1769796000-1769799600@hyderabadgolfclub.co.in
SUMMARY:Monthly Rules Clinic
DESCRIPTION:January Monthly Rules Clinic – Golf rules refresher and clarification session on Friday\, 30th January.
URL:https://hyderabadgolfclub.co.in/event/monthly-rules-clinic-4/
LOCATION:Hyderabad Golf Club\, Golconda\, Hyderabad\, Telangana\, India\, India
END:VEVENT
BEGIN:VEVENT
DTSTART;TZID=Asia/Kolkata:20260206T123000
DTEND;TZID=Asia/Kolkata:20260207T130000
DTSTAMP:20260424T012827
CREATED:20260228T055504Z
LAST-MODIFIED:20260228T055504Z
UID:3680-1770381000-1770469200@hyderabadgolfclub.co.in
SUMMARY:HGA Monthly Tournament - Feb 2026
DESCRIPTION:February Monthly Tournament – Two-day tournament with Friday afternoon and Saturday full-day sessions (6th–7th February).
URL:https://hyderabadgolfclub.co.in/event/hga-monthly-tournament-feb-2026/
LOCATION:Hyderabad Golf Club\, Golconda\, Hyderabad\, Telangana\, India\, India
END:VEVENT
BEGIN:VEVENT
DTSTART;TZID=Asia/Kolkata:20260215T123000
DTEND;TZID=Asia/Kolkata:20260215T170000
DTSTAMP:20260424T012827
CREATED:20260228T055710Z
LAST-MODIFIED:20260228T055710Z
UID:3684-1771158600-1771174800@hyderabadgolfclub.co.in
SUMMARY:Drive to Save Lives Golf Tournament
DESCRIPTION:Drive to Save Lives Golf Tournament – Charity golf tournament scheduled for Sunday\, 15th February (Afternoon Session).
URL:https://hyderabadgolfclub.co.in/event/drive-to-save-lives-golf-tournament/
END:VEVENT
BEGIN:VEVENT
DTSTART;TZID=Asia/Kolkata:20260227T180000
DTEND;TZID=Asia/Kolkata:20260227T190000
DTSTAMP:20260424T012827
CREATED:20260228T055555Z
LAST-MODIFIED:20260228T055555Z
UID:3682-1772215200-1772218800@hyderabadgolfclub.co.in
SUMMARY:Monthly Rules Clinic
DESCRIPTION:February Monthly Rules Clinic – Golf rules refresher session on Friday\, 27th February.
URL:https://hyderabadgolfclub.co.in/event/monthly-rules-clinic-3/
END:VEVENT
BEGIN:VEVENT
DTSTART;TZID=Asia/Kolkata:20260228T123000
DTEND;TZID=Asia/Kolkata:20260228T170000
DTSTAMP:20260424T012827
CREATED:20260228T055812Z
LAST-MODIFIED:20260228T055812Z
UID:3686-1772281800-1772298000@hyderabadgolfclub.co.in
SUMMARY:TiE CEO Golf Tournament
DESCRIPTION:TiE CEO Golf Tournament – Exclusive CEO tournament planned for Saturday\, 28th February (Afternoon Session).
URL:https://hyderabadgolfclub.co.in/event/tie-ceo-golf-tournament/
LOCATION:Hyderabad Golf Club\, Golconda\, Hyderabad\, Telangana\, India\, India
END:VEVENT
BEGIN:VEVENT
DTSTART;TZID=Asia/Kolkata:20260306T123000
DTEND;TZID=Asia/Kolkata:20260307T170000
DTSTAMP:20260424T012827
CREATED:20260227T182720Z
LAST-MODIFIED:20260227T182720Z
UID:3667-1772800200-1772902800@hyderabadgolfclub.co.in
SUMMARY:HGA Monthly Tournament – March  2026
DESCRIPTION:
URL:https://hyderabadgolfclub.co.in/event/hga-monthly-tournament-march-2026/
LOCATION:Hyderabad Golf Club\, Golconda\, Hyderabad\, Telangana\, India\, India
END:VEVENT
BEGIN:VEVENT
DTSTART;TZID=Asia/Kolkata:20260310T053000
DTEND;TZID=Asia/Kolkata:20260311T130000
DTSTAMP:20260424T012827
CREATED:20260228T054349Z
LAST-MODIFIED:20260410T072227Z
UID:3671-1773120600-1773234000@hyderabadgolfclub.co.in
SUMMARY:Mercedes Golf Tournament
DESCRIPTION:Mercedes Golf Tournament (Tentative) \nTuesday\, 10th March (Morning Session)\nWednesday\, 11th March (Morning Session) \nThe tournament will be conducted over two days with morning sessions on Tuesday and Wednesday.
URL:https://hyderabadgolfclub.co.in/event/mercedes-golf-tournament-tentative/
END:VEVENT
BEGIN:VEVENT
DTSTART;TZID=Asia/Kolkata:20260327T180000
DTEND;TZID=Asia/Kolkata:20260327T190000
DTSTAMP:20260424T012827
CREATED:20260228T054747Z
LAST-MODIFIED:20260228T054747Z
UID:3674-1774634400-1774638000@hyderabadgolfclub.co.in
SUMMARY:Monthly Rules Clinic
DESCRIPTION:March Monthly Rules Clinic – A dedicated session to refresh and clarify golf rules\, scheduled for Friday\, 27th March.
URL:https://hyderabadgolfclub.co.in/event/monthly-rules-clinic/
LOCATION:Hyderabad Golf Club\, Golconda\, Hyderabad\, Telangana\, India\, India
END:VEVENT
BEGIN:VEVENT
DTSTART;TZID=Asia/Kolkata:20260403T050000
DTEND;TZID=Asia/Kolkata:20260404T130000
DTSTAMP:20260424T012827
CREATED:20260302T050912Z
LAST-MODIFIED:20260410T072116Z
UID:3721-1775192400-1775307600@hyderabadgolfclub.co.in
SUMMARY:HGA Monthly Tournament - April 2026
DESCRIPTION:April Monthly Tournament – Two-day tournament with Friday full-day sessions  and Saturday afternoon (10th–11th April).
URL:https://hyderabadgolfclub.co.in/event/hga-monthly-tournament-april-2026-2/
LOCATION:Hyderabad Golf Club\, Golconda\, Hyderabad\, Telangana\, India\, India
END:VEVENT
BEGIN:VEVENT
DTSTART;TZID=Asia/Kolkata:20260413T083000
DTEND;TZID=Asia/Kolkata:20260417T123000
DTSTAMP:20260424T012827
CREATED:20260302T050956Z
LAST-MODIFIED:20260302T051334Z
UID:3723-1776069000-1776429000@hyderabadgolfclub.co.in
SUMMARY:IGU Telangana Amateur Championship – April 2026
DESCRIPTION:IGU Telangana Amateur Championship – State-level amateur championship conducted from 13th to 17th April.
URL:https://hyderabadgolfclub.co.in/event/igu-telangana-amateur-championship-april-2026/
LOCATION:Hyderabad Golf Club\, Golconda\, Hyderabad\, Telangana\, India\, India
END:VEVENT
BEGIN:VEVENT
DTSTART;TZID=Asia/Kolkata:20260424T180000
DTEND;TZID=Asia/Kolkata:20260424T190000
DTSTAMP:20260424T012827
CREATED:20260228T055137Z
LAST-MODIFIED:20260228T055137Z
UID:3678-1777053600-1777057200@hyderabadgolfclub.co.in
SUMMARY:Monthly Rules Clinic
DESCRIPTION:April Monthly Rules Clinic – A focused session to review and clarify golf rules\, scheduled for Friday\, 24th April.
URL:https://hyderabadgolfclub.co.in/event/monthly-rules-clinic-2/
END:VEVENT
BEGIN:VEVENT
DTSTART;TZID=Asia/Kolkata:20260430T060000
DTEND;TZID=Asia/Kolkata:20260430T133000
DTSTAMP:20260424T012827
CREATED:20260302T051620Z
LAST-MODIFIED:20260302T051620Z
UID:3726-1777528800-1777555800@hyderabadgolfclub.co.in
SUMMARY:KWC Golf Tournament (Tentative) – April 2026
DESCRIPTION:KWC Golf Tournament (Tentative) – Corporate golf tournament proposed for Thursday\, 30th April.
URL:https://hyderabadgolfclub.co.in/event/kwc-golf-tournament-tentative-april-2026/
LOCATION:Hyderabad Golf Club\, Golconda\, Hyderabad\, Telangana\, India\, India
END:VEVENT
BEGIN:VEVENT
DTSTART;TZID=Asia/Kolkata:20260508T050000
DTEND;TZID=Asia/Kolkata:20260509T130000
DTSTAMP:20260424T012827
CREATED:20260302T051811Z
LAST-MODIFIED:20260410T072208Z
UID:3728-1778216400-1778331600@hyderabadgolfclub.co.in
SUMMARY:HGA Monthly Tournament – May 2026
DESCRIPTION:May Monthly Tournament – Two-day monthly tournament with Friday full-day sessions and Saturday afternoon (8th–9th May).
URL:https://hyderabadgolfclub.co.in/event/hga-monthly-tournament-may-2026/
LOCATION:Hyderabad Golf Club\, Golconda\, Hyderabad\, Telangana\, India\, India
END:VEVENT
BEGIN:VEVENT
DTSTART;TZID=Asia/Kolkata:20260529T180000
DTEND;TZID=Asia/Kolkata:20260529T190000
DTSTAMP:20260424T012827
CREATED:20260302T051933Z
LAST-MODIFIED:20260302T051944Z
UID:3730-1780077600-1780081200@hyderabadgolfclub.co.in
SUMMARY:Monthly Rules Clinic
DESCRIPTION:May Monthly Rules Clinic – Monthly golf rules clinic scheduled for Friday\, 29th May.
URL:https://hyderabadgolfclub.co.in/event/monthly-rules-clinic-5/
LOCATION:Hyderabad Golf Club\, Golconda\, Hyderabad\, Telangana\, India\, India
END:VEVENT
END:VCALENDAR